BEGIN:VCALENDAR
VERSION:2.0
PRODID:-//demosphere.net//NONSGML kigkonsult.se iCalcreator 2.22.1//
METHOD:REQUEST
X-WR-TIMEZONE:Europe/Paris
BEGIN:VEVENT
UID:https://safe.lille.demosphere.net/rv/11150
DTSTAMP:20260321T103000Z
DESCRIPTION:plus d'infos sur : https://safe.lille.demosphere.net/rv/11150
DTSTART:20260321T103000Z
DTEND:20260321T113000Z
GEO:+50.622341;+3.062428
LOCATION:Lille Moulins\, \nCafé-Cantine La Moulinette \n105 boulevard Victo
 r Hugo \nLille \nMétro Ligne 2 : Porte d'Arras \nBus Ligne 14 : Bas Jardin
  \nV'Lille : Gantois (170)
SUMMARY:Atelier-quizz et jeu sérieux 𝗗²𝗜𝗠𝗜𝗚
URL:https://safe.lille.demosphere.net/rv/11150
END:VEVENT
END:VCALENDAR
