BEGIN:VCALENDAR
VERSION:2.0
PRODID:-//demosphere.net//NONSGML kigkonsult.se iCalcreator 2.22.1//
METHOD:REQUEST
X-WR-TIMEZONE:Europe/Paris
BEGIN:VEVENT
UID:https://safe.lille.demosphere.net/rv/11167
DTSTAMP:20260402T170000Z
DESCRIPTION:plus d'infos sur : https://safe.lille.demosphere.net/rv/11167
DTSTART:20260402T170000Z
DTEND:20260402T180000Z
GEO:+50.620506;+3.051788
LOCATION:Lille Wazemmes\, \nCentre Culturel Libertaire (CCL) \n4 rue de Col
 mar à Lille \nMetro Porte des Postes\, prendre Rue des postes puis 2ème ru
 e à droite à l'Eglise. le CCL est à coté de l’école Viala.
SUMMARY:Conférence gésticulée : c’est qui l’bonhomme
URL:https://safe.lille.demosphere.net/rv/11167
END:VEVENT
END:VCALENDAR
